BEGIN:VCALENDAR
VERSION:2.0
PRODID:-//Larpbook //Larpbook.org //EN
CALSCALE:GREGORIAN
X-WR-CALNAME:larpbook.org
BEGIN:VEVENT
CREATED:
UID:larpbook_event_7747
DTEND;VALUE=DATE:20260607
DTSTART;VALUE=DATE:20260604
DTSTAMP:20260420T044943Z
LOCATION:Jugendheim Hollertal 1\, 66978 Clausen\, Deutschland
DESCRIPTION:Hallo zusammen! Wie jedes Jahr bieten wir auch 2026 eine kleine Ambiente-Con an, die weniger auf Plo...
SUMMARY:Lager zu Caer Marcheg
ORGANIZER:Brenonia-Larp
URL;VALUE=URI:https://larpbook.org/event/lager-zu-caer-marcheg/
TRANSP:OPAQUE
END:VEVENT
END:VCALENDAR
